BEGIN:VCALENDAR
VERSION:2.0
PRODID:-//KanuKlausdorf - ECPv6.15.20//NONSGML v1.0//EN
CALSCALE:GREGORIAN
METHOD:PUBLISH
X-WR-CALNAME:KanuKlausdorf
X-ORIGINAL-URL:https://kanuklausdorf.de
X-WR-CALDESC:Veranstaltungen für KanuKlausdorf
REFRESH-INTERVAL;VALUE=DURATION:PT1H
X-Robots-Tag:noindex
X-PUBLISHED-TTL:PT1H
BEGIN:VTIMEZONE
TZID:Europe/Berlin
BEGIN:DAYLIGHT
TZOFFSETFROM:+0100
TZOFFSETTO:+0200
TZNAME:CEST
DTSTART:20240331T010000
END:DAYLIGHT
BEGIN:STANDARD
TZOFFSETFROM:+0200
TZOFFSETTO:+0100
TZNAME:CET
DTSTART:20241027T010000
END:STANDARD
BEGIN:DAYLIGHT
TZOFFSETFROM:+0100
TZOFFSETTO:+0200
TZNAME:CEST
DTSTART:20250330T010000
END:DAYLIGHT
BEGIN:STANDARD
TZOFFSETFROM:+0200
TZOFFSETTO:+0100
TZNAME:CET
DTSTART:20251026T010000
END:STANDARD
BEGIN:DAYLIGHT
TZOFFSETFROM:+0100
TZOFFSETTO:+0200
TZNAME:CEST
DTSTART:20260329T010000
END:DAYLIGHT
BEGIN:STANDARD
TZOFFSETFROM:+0200
TZOFFSETTO:+0100
TZNAME:CET
DTSTART:20261025T010000
END:STANDARD
END:VTIMEZONE
BEGIN:VEVENT
DTSTART;VALUE=DATE:20250802
DTEND;VALUE=DATE:20250809
DTSTAMP:20260419T151027
CREATED:20250131T125001Z
LAST-MODIFIED:20250131T125001Z
UID:25752-1754092800-1754697599@kanuklausdorf.de
SUMMARY:Ostseeküstentour
DESCRIPTION:In 6 Etappen geht es Stück für Stück vom Steg des TSV Klausdorf entlang der Ostseeküste Richtung Norden nach Flensburg \n  \n🔴 Anmeldung erforderlich\n🧭 Seekajakausrüstung erforderlich\n⛺ Gepäcktour\n🕑 Abfahrt nach Absprache
URL:https://kanuklausdorf.de/event/ostseekuestentour/
LOCATION:Ostsee\, Deutschland
CATEGORIES:Seekajak,Wanderfahrt
ORGANIZER;CN="Thomas Skade":MAILTO:th.skade@web.de
END:VEVENT
BEGIN:VEVENT
DTSTART;VALUE=DATE:20250809
DTEND;VALUE=DATE:20250811
DTSTAMP:20260419T151027
CREATED:20250131T125002Z
LAST-MODIFIED:20250131T125002Z
UID:25753-1754697600-1754870399@kanuklausdorf.de
SUMMARY:Priwall ruft
DESCRIPTION:Standquatier auf dem Priwall mit Tagesfahrten in die Trave und auf die Ostsee raus. \n  \n🔴 Anmeldung erforderlich\n🧭 Seekajakausrüstung erforderlich\n🕑 Abfahrt nach Absprache
URL:https://kanuklausdorf.de/event/priwall-ruft/
LOCATION:Trave\, Deutschland
CATEGORIES:Seekajak,Wanderfahrt
ORGANIZER;CN="Wanderwart Mario L%C3%BCneberg":MAILTO:wanderwart@kanuklausdorf.rocks
END:VEVENT
BEGIN:VEVENT
DTSTART;VALUE=DATE:20250829
DTEND;VALUE=DATE:20250901
DTSTAMP:20260419T151027
CREATED:20241018T122007Z
LAST-MODIFIED:20250131T130703Z
UID:24586-1756425600-1756684799@kanuklausdorf.de
SUMMARY:Schwentinewanderfahrt
DESCRIPTION:Die 51. Schwentinewanderfahrt geht an den Start.\nAlle Infos findest du hier 👉 Ausschreibung Schwentinewanderfahrt \nUnd die komplette Ausschreibung findest du gleich dahinter 👉 Ausschreibung Schwentinewanderfahrt\n  \n🔴 Anmeldung erforderlich\n🏅 Gemeinschaftsfahrt
URL:https://kanuklausdorf.de/event/51-schwentinewanderfahrt/
CATEGORIES:An Land,Gemeinschaftsfahrt
ORGANIZER;CN="Team Schwentinewanderfahrt":MAILTO:schwentinewanderfahrt@kanuklausdorf.rocks
END:VEVENT
END:VCALENDAR