BEGIN:VCALENDAR
VERSION:2.0
PRODID:-//KanuKlausdorf - ECPv6.15.20//NONSGML v1.0//EN
CALSCALE:GREGORIAN
METHOD:PUBLISH
X-WR-CALNAME:KanuKlausdorf
X-ORIGINAL-URL:https://kanuklausdorf.de
X-WR-CALDESC:Veranstaltungen für KanuKlausdorf
REFRESH-INTERVAL;VALUE=DURATION:PT1H
X-Robots-Tag:noindex
X-PUBLISHED-TTL:PT1H
BEGIN:VTIMEZONE
TZID:Europe/Berlin
BEGIN:DAYLIGHT
TZOFFSETFROM:+0100
TZOFFSETTO:+0200
TZNAME:CEST
DTSTART:20250330T010000
END:DAYLIGHT
BEGIN:STANDARD
TZOFFSETFROM:+0200
TZOFFSETTO:+0100
TZNAME:CET
DTSTART:20251026T010000
END:STANDARD
BEGIN:DAYLIGHT
TZOFFSETFROM:+0100
TZOFFSETTO:+0200
TZNAME:CEST
DTSTART:20260329T010000
END:DAYLIGHT
BEGIN:STANDARD
TZOFFSETFROM:+0200
TZOFFSETTO:+0100
TZNAME:CET
DTSTART:20261025T010000
END:STANDARD
BEGIN:DAYLIGHT
TZOFFSETFROM:+0100
TZOFFSETTO:+0200
TZNAME:CEST
DTSTART:20270328T010000
END:DAYLIGHT
BEGIN:STANDARD
TZOFFSETFROM:+0200
TZOFFSETTO:+0100
TZNAME:CET
DTSTART:20271031T010000
END:STANDARD
END:VTIMEZONE
BEGIN:VEVENT
DTSTART;VALUE=DATE:20260612
DTEND;VALUE=DATE:20260615
DTSTAMP:20260423T125152
CREATED:20260327T132711Z
LAST-MODIFIED:20260327T132711Z
UID:27735-1781222400-1781481599@kanuklausdorf.de
SUMMARY:Pagensand
DESCRIPTION:Je nach Wetter + Laune: 2-3 Tage Gepäcktour \nOption 1: Blankenese – Pagensand – Blankenese (50 km) + TagestourOption 2: ohne Tagestour \nMit Zeltgepäck auf die Unterelbe von Blankenese zur Insel Pagensand\, wo am Strand mit Blick über die weite Elbe die Nacht verbracht wird. Am Sonntag geht es mit der Tide wieder zurück \nFür halbwegs fitte Paddler*innen. \n  \n🔴 Anmeldung erforderlich\n🧭 Seekajakausrüstung erforderlich\n⛺ Gepäcktour\n🕑 Abfahrt Option 1: 12.06.26 um 11 Uhr\n🕑 Abfahrt Option 2: 13.06.26 um 12 Uhr
URL:https://kanuklausdorf.de/event/pagensand-3/
LOCATION:Elbe\, Deutschland
CATEGORIES:Seekajak,Wanderfahrt
ORGANIZER;CN="Thomas Voigt":MAILTO:thomas.voigt@kanuklausdorf.rocks
END:VEVENT
END:VCALENDAR