BEGIN:VCALENDAR
VERSION:2.0
PRODID:-//KanuKlausdorf - ECPv6.15.20//NONSGML v1.0//EN
CALSCALE:GREGORIAN
METHOD:PUBLISH
X-WR-CALNAME:KanuKlausdorf
X-ORIGINAL-URL:https://kanuklausdorf.de
X-WR-CALDESC:Veranstaltungen für KanuKlausdorf
REFRESH-INTERVAL;VALUE=DURATION:PT1H
X-Robots-Tag:noindex
X-PUBLISHED-TTL:PT1H
BEGIN:VTIMEZONE
TZID:Europe/Berlin
BEGIN:DAYLIGHT
TZOFFSETFROM:+0100
TZOFFSETTO:+0200
TZNAME:CEST
DTSTART:20240331T010000
END:DAYLIGHT
BEGIN:STANDARD
TZOFFSETFROM:+0200
TZOFFSETTO:+0100
TZNAME:CET
DTSTART:20241027T010000
END:STANDARD
BEGIN:DAYLIGHT
TZOFFSETFROM:+0100
TZOFFSETTO:+0200
TZNAME:CEST
DTSTART:20250330T010000
END:DAYLIGHT
BEGIN:STANDARD
TZOFFSETFROM:+0200
TZOFFSETTO:+0100
TZNAME:CET
DTSTART:20251026T010000
END:STANDARD
BEGIN:DAYLIGHT
TZOFFSETFROM:+0100
TZOFFSETTO:+0200
TZNAME:CEST
DTSTART:20260329T010000
END:DAYLIGHT
BEGIN:STANDARD
TZOFFSETFROM:+0200
TZOFFSETTO:+0100
TZNAME:CET
DTSTART:20261025T010000
END:STANDARD
END:VTIMEZONE
BEGIN:VEVENT
DTSTART;VALUE=DATE:20250621
DTEND;VALUE=DATE:20250623
DTSTAMP:20260424T141131
CREATED:20250131T124944Z
LAST-MODIFIED:20250131T124944Z
UID:25748-1750464000-1750636799@kanuklausdorf.de
SUMMARY:Pagensand
DESCRIPTION:Mit Zeltgepäck auf die Unterelbe von Blankenese zur Insel Pagensand\, wo eine Nacht am Strand mit Blick über die weite Elbe verbracht wird. Am Sonntag geht es mit der Tide wieder zurück (2 x 25 km). Anreise am Freitag möglich  \nFür halbwegs fitte Paddler*innen. \n  \n🔴 Anmeldung erforderlich\n🧭 Seekajakausrüstung erforderlich\n⛺ Gepäcktour\n🕑 Abfahrt nach Absprache
URL:https://kanuklausdorf.de/event/pagensand-2/
LOCATION:Elbe\, Deutschland
CATEGORIES:Seekajak,Wanderfahrt
ORGANIZER;CN="Thomas Voigt":MAILTO:thomas.voigt@kanuklausdorf.rocks
END:VEVENT
END:VCALENDAR