BEGIN:VCALENDAR
VERSION:2.0
PRODID:-//KanuKlausdorf - ECPv6.15.20//NONSGML v1.0//EN
CALSCALE:GREGORIAN
METHOD:PUBLISH
X-ORIGINAL-URL:https://kanuklausdorf.de
X-WR-CALDESC:Veranstaltungen für KanuKlausdorf
REFRESH-INTERVAL;VALUE=DURATION:PT1H
X-Robots-Tag:noindex
X-PUBLISHED-TTL:PT1H
BEGIN:VTIMEZONE
TZID:Europe/Berlin
BEGIN:DAYLIGHT
TZOFFSETFROM:+0100
TZOFFSETTO:+0200
TZNAME:CEST
DTSTART:20250330T010000
END:DAYLIGHT
BEGIN:STANDARD
TZOFFSETFROM:+0200
TZOFFSETTO:+0100
TZNAME:CET
DTSTART:20251026T010000
END:STANDARD
BEGIN:DAYLIGHT
TZOFFSETFROM:+0100
TZOFFSETTO:+0200
TZNAME:CEST
DTSTART:20260329T010000
END:DAYLIGHT
BEGIN:STANDARD
TZOFFSETFROM:+0200
TZOFFSETTO:+0100
TZNAME:CET
DTSTART:20261025T010000
END:STANDARD
BEGIN:DAYLIGHT
TZOFFSETFROM:+0100
TZOFFSETTO:+0200
TZNAME:CEST
DTSTART:20270328T010000
END:DAYLIGHT
BEGIN:STANDARD
TZOFFSETFROM:+0200
TZOFFSETTO:+0100
TZNAME:CET
DTSTART:20271031T010000
END:STANDARD
END:VTIMEZONE
BEGIN:VEVENT
DTSTART;TZID=Europe/Berlin:20260827T170000
DTEND;TZID=Europe/Berlin:20260827T200000
DTSTAMP:20260419T151338
CREATED:20260327T132731Z
LAST-MODIFIED:20260327T132731Z
UID:27771-1787850000-1787860800@kanuklausdorf.de
SUMMARY:Gemeinschaftsarbeit
DESCRIPTION:Sommerpflege unseres schönen Geländes und Vorbereitungen für die Schwentinewanderfahrt \n  \n🕑 Uhrzeit gilt für das Treffen auf dem Kanugelände
URL:https://kanuklausdorf.de/event/gemeinschaftsarbeit-8/
LOCATION:Kanugelände\, Wiesenhörn 5\, 24222 Schwentinental (OT Klausdorf)\, Deutschland
CATEGORIES:An Land
ORGANIZER;CN="Anlagenwart Andrzej Kusnierczyk":MAILTO:anlagenwart@kanuklausdorf.rocks
END:VEVENT
BEGIN:VEVENT
DTSTART;TZID=Europe/Berlin:20260828T000000
DTEND;TZID=Europe/Berlin:20260830T000000
DTSTAMP:20260419T151338
CREATED:20251026T132042Z
LAST-MODIFIED:20251026T132042Z
UID:27041-1787875200-1788048000@kanuklausdorf.de
SUMMARY:Schwentinewanderfahrt
DESCRIPTION:Die 52. Schwentinewanderfahrt geht an den Start. \nAlle Infos findest du hier 👉 Ausschreibung Schwentinewanderfahrt \nUnd die komplette Ausschreibung findest du gleich dahinter 👉 Ausschreibung Schwentinewanderfahrt \n  \n🏅 Gemeinschaftsfahrt\n🙋 Helfer willkommen!
URL:https://kanuklausdorf.de/event/schwentinewanderfahrt-2/
CATEGORIES:An Land,Gemeinschaftsfahrt,Seekajak
ORGANIZER;CN="Team Schwentinewanderfahrt":MAILTO:schwentinewanderfahrt@kanuklausdorf.rocks
END:VEVENT
BEGIN:VEVENT
DTSTART;TZID=Europe/Berlin:20260829T090000
DTEND;TZID=Europe/Berlin:20260829T090000
DTSTAMP:20260419T151338
CREATED:20251026T132043Z
LAST-MODIFIED:20251026T132043Z
UID:27042-1787994000-1787994000@kanuklausdorf.de
SUMMARY:Schwentinekanumarathon
DESCRIPTION:Zusammen mit der 52. Schwentinewanderfahrt startet auch die Wettfahrt Schwentinekanumarathon. \nAlle Infos findest du hier 👉 Ausschreibung Schwentinewanderfahrt \nUnd die komplette Ausschreibung findest du gleich dahinter 👉 Ausschreibung Schwentinewanderfahrt \n  \n🏅 Gemeinschaftsfahrt
URL:https://kanuklausdorf.de/event/schwentinekanumarathon/
CATEGORIES:An Land,Gemeinschaftsfahrt,Seekajak,Wettkampf
ORGANIZER;CN="Team Schwentinewanderfahrt":MAILTO:schwentinewanderfahrt@kanuklausdorf.rocks
END:VEVENT
BEGIN:VEVENT
DTSTART;TZID=Europe/Berlin:20260830T094500
DTEND;TZID=Europe/Berlin:20260830T140000
DTSTAMP:20260419T151338
CREATED:20251026T132043Z
LAST-MODIFIED:20251026T132043Z
UID:27043-1788083100-1788098400@kanuklausdorf.de
SUMMARY:Kieler Hafentour
DESCRIPTION:Im Rahmen der Schwentinewanderfahrt gibt es als Abschluss eine Tagestour auf der Kieler Innenförde und der Schwentine. \n  \n🏅 Gemeinschaftsfahrt\n🧭 Seekajakausrüstung erforderlich\n🕑 Uhrzeit gilt für das Ablegen am Steg
URL:https://kanuklausdorf.de/event/kieler-hafentour-3/
LOCATION:Schwentine / Kieler Förde\, Wiesenhörn 5\, 24222 Schwentinental (OT Klausdorf)\, Deutschland
CATEGORIES:Gemeinschaftsfahrt,Seekajak
ORGANIZER;CN="Wanderwart Mario L%C3%BCneberg":MAILTO:wanderwart@kanuklausdorf.rocks
END:VEVENT
END:VCALENDAR