BEGIN:VCALENDAR
VERSION:2.0
PRODID:-//KanuKlausdorf - ECPv6.15.20//NONSGML v1.0//EN
CALSCALE:GREGORIAN
METHOD:PUBLISH
X-WR-CALNAME:KanuKlausdorf
X-ORIGINAL-URL:https://kanuklausdorf.de
X-WR-CALDESC:Veranstaltungen für KanuKlausdorf
REFRESH-INTERVAL;VALUE=DURATION:PT1H
X-Robots-Tag:noindex
X-PUBLISHED-TTL:PT1H
BEGIN:VTIMEZONE
TZID:Europe/Berlin
BEGIN:DAYLIGHT
TZOFFSETFROM:+0100
TZOFFSETTO:+0200
TZNAME:CEST
DTSTART:20250330T010000
END:DAYLIGHT
BEGIN:STANDARD
TZOFFSETFROM:+0200
TZOFFSETTO:+0100
TZNAME:CET
DTSTART:20251026T010000
END:STANDARD
BEGIN:DAYLIGHT
TZOFFSETFROM:+0100
TZOFFSETTO:+0200
TZNAME:CEST
DTSTART:20260329T010000
END:DAYLIGHT
BEGIN:STANDARD
TZOFFSETFROM:+0200
TZOFFSETTO:+0100
TZNAME:CET
DTSTART:20261025T010000
END:STANDARD
BEGIN:DAYLIGHT
TZOFFSETFROM:+0100
TZOFFSETTO:+0200
TZNAME:CEST
DTSTART:20270328T010000
END:DAYLIGHT
BEGIN:STANDARD
TZOFFSETFROM:+0200
TZOFFSETTO:+0100
TZNAME:CET
DTSTART:20271031T010000
END:STANDARD
END:VTIMEZONE
BEGIN:VEVENT
DTSTART;VALUE=DATE:20260717
DTEND;VALUE=DATE:20260720
DTSTAMP:20260421T235216
CREATED:20260327T132723Z
LAST-MODIFIED:20260327T133803Z
UID:27747-1784246400-1784505599@kanuklausdorf.de
SUMMARY:TSVK meets Kanutreff am Eiderstrand
DESCRIPTION:40 km – Tagestouren auf der Nordsee. Standquartier in Tönning. Gemeinschaftsfahrt \n👉 Ausschreibung DKV \n  \n🔴 Anmeldung erforderlich bis 10.07.2026\n🏅 Gemeinschaftsfahrt\n🧭 Seekajakausrüstung erforderlich\n🕑 Abfahrt nach Absprache
URL:https://kanuklausdorf.de/event/tsvk-meets-kanutreff-am-eiderstrand/
LOCATION:Nordsee\, Deutschland
CATEGORIES:Gemeinschaftsfahrt,Seekajak
ORGANIZER;CN="Thomas Voigt":MAILTO:thomas.voigt@kanuklausdorf.rocks
END:VEVENT
END:VCALENDAR