BEGIN:VCALENDAR
VERSION:2.0
PRODID:-//KanuKlausdorf - ECPv6.15.20//NONSGML v1.0//EN
CALSCALE:GREGORIAN
METHOD:PUBLISH
X-ORIGINAL-URL:https://kanuklausdorf.de
X-WR-CALDESC:Veranstaltungen für KanuKlausdorf
REFRESH-INTERVAL;VALUE=DURATION:PT1H
X-Robots-Tag:noindex
X-PUBLISHED-TTL:PT1H
BEGIN:VTIMEZONE
TZID:Europe/Berlin
BEGIN:DAYLIGHT
TZOFFSETFROM:+0100
TZOFFSETTO:+0200
TZNAME:CEST
DTSTART:20230326T010000
END:DAYLIGHT
BEGIN:STANDARD
TZOFFSETFROM:+0200
TZOFFSETTO:+0100
TZNAME:CET
DTSTART:20231029T010000
END:STANDARD
BEGIN:DAYLIGHT
TZOFFSETFROM:+0100
TZOFFSETTO:+0200
TZNAME:CEST
DTSTART:20240331T010000
END:DAYLIGHT
BEGIN:STANDARD
TZOFFSETFROM:+0200
TZOFFSETTO:+0100
TZNAME:CET
DTSTART:20241027T010000
END:STANDARD
BEGIN:DAYLIGHT
TZOFFSETFROM:+0100
TZOFFSETTO:+0200
TZNAME:CEST
DTSTART:20250330T010000
END:DAYLIGHT
BEGIN:STANDARD
TZOFFSETFROM:+0200
TZOFFSETTO:+0100
TZNAME:CET
DTSTART:20251026T010000
END:STANDARD
END:VTIMEZONE
BEGIN:VEVENT
DTSTART;TZID=Europe/Berlin:20240907T083000
DTEND;TZID=Europe/Berlin:20240907T083000
DTSTAMP:20260423T212028
CREATED:20240125T081619Z
LAST-MODIFIED:20240901T110052Z
UID:23203-1725697800-1725697800@kanuklausdorf.de
SUMMARY:Fehmarn Südküste
DESCRIPTION:Von Großenbrode West zum Leuchtturm Staberhuk und zurück. Streckenlänge etwa 32 km\, kann aber auch angepasst werden (warten am Strand / Cafe…).\nBei ungünstigem Wind paddeln wir alternativ im Bereich Orther Bucht\, Flügger Leuchtturm. \n  \n🔴 Anmeldung erforderlich\n🧭 Seekajakausrüstung erforderlich\n📦 Boote verladen Freitag gegen 17.00 Uhr\n🕑 Uhrzeit ist Abfahrtszeit vom Kanugelände
URL:https://kanuklausdorf.de/event/fehmarn-suedkueste/
LOCATION:Ostsee\, Deutschland
CATEGORIES:Seekajak,Tagesfahrt
ORGANIZER;CN="Olaf Utech":MAILTO:olaf.utech@kanuklausdorf.rocks
END:VEVENT
END:VCALENDAR