BEGIN:VCALENDAR
VERSION:2.0
PRODID:-//KanuKlausdorf - ECPv6.15.20//NONSGML v1.0//EN
CALSCALE:GREGORIAN
METHOD:PUBLISH
X-WR-CALNAME:KanuKlausdorf
X-ORIGINAL-URL:https://kanuklausdorf.de
X-WR-CALDESC:Veranstaltungen für KanuKlausdorf
REFRESH-INTERVAL;VALUE=DURATION:PT1H
X-Robots-Tag:noindex
X-PUBLISHED-TTL:PT1H
BEGIN:VTIMEZONE
TZID:Europe/Berlin
BEGIN:DAYLIGHT
TZOFFSETFROM:+0100
TZOFFSETTO:+0200
TZNAME:CEST
DTSTART:20230326T010000
END:DAYLIGHT
BEGIN:STANDARD
TZOFFSETFROM:+0200
TZOFFSETTO:+0100
TZNAME:CET
DTSTART:20231029T010000
END:STANDARD
BEGIN:DAYLIGHT
TZOFFSETFROM:+0100
TZOFFSETTO:+0200
TZNAME:CEST
DTSTART:20240331T010000
END:DAYLIGHT
BEGIN:STANDARD
TZOFFSETFROM:+0200
TZOFFSETTO:+0100
TZNAME:CET
DTSTART:20241027T010000
END:STANDARD
BEGIN:DAYLIGHT
TZOFFSETFROM:+0100
TZOFFSETTO:+0200
TZNAME:CEST
DTSTART:20250330T010000
END:DAYLIGHT
BEGIN:STANDARD
TZOFFSETFROM:+0200
TZOFFSETTO:+0100
TZNAME:CET
DTSTART:20251026T010000
END:STANDARD
END:VTIMEZONE
BEGIN:VEVENT
DTSTART;TZID=Europe/Berlin:20240504T073000
DTEND;TZID=Europe/Berlin:20240504T073000
DTSTAMP:20260424T033733
CREATED:20240125T081531Z
LAST-MODIFIED:20240125T081531Z
UID:23187-1714807800-1714807800@kanuklausdorf.de
SUMMARY:Eckernfördetour
DESCRIPTION:Von Eckernförde geht es zum 45 km entferneten Klausdorf. Wer nicht so weit fahren will\, hat die Option die Tour in Strande zu beenden (26 km). \n  \n🔴 Anmeldung erforderlich\n🧭 Seekajakausrüstung erforderlich\n🕑 Uhrzeit gilt für das Treffen auf dem Kanugelände
URL:https://kanuklausdorf.de/event/eckernfoerdetour/
LOCATION:Ostsee\, Deutschland
CATEGORIES:Seekajak,Tagesfahrt
ORGANIZER;CN="Olaf Utech":MAILTO:olaf.utech@kanuklausdorf.rocks
END:VEVENT
END:VCALENDAR