BEGIN:VCALENDAR
VERSION:2.0
PRODID:-//KanuKlausdorf - ECPv6.15.20//NONSGML v1.0//EN
CALSCALE:GREGORIAN
METHOD:PUBLISH
X-ORIGINAL-URL:https://kanuklausdorf.de
X-WR-CALDESC:Veranstaltungen für KanuKlausdorf
REFRESH-INTERVAL;VALUE=DURATION:PT1H
X-Robots-Tag:noindex
X-PUBLISHED-TTL:PT1H
BEGIN:VTIMEZONE
TZID:Europe/Berlin
BEGIN:DAYLIGHT
TZOFFSETFROM:+0100
TZOFFSETTO:+0200
TZNAME:CEST
DTSTART:20240331T010000
END:DAYLIGHT
BEGIN:STANDARD
TZOFFSETFROM:+0200
TZOFFSETTO:+0100
TZNAME:CET
DTSTART:20241027T010000
END:STANDARD
BEGIN:DAYLIGHT
TZOFFSETFROM:+0100
TZOFFSETTO:+0200
TZNAME:CEST
DTSTART:20250330T010000
END:DAYLIGHT
BEGIN:STANDARD
TZOFFSETFROM:+0200
TZOFFSETTO:+0100
TZNAME:CET
DTSTART:20251026T010000
END:STANDARD
BEGIN:DAYLIGHT
TZOFFSETFROM:+0100
TZOFFSETTO:+0200
TZNAME:CEST
DTSTART:20260329T010000
END:DAYLIGHT
BEGIN:STANDARD
TZOFFSETFROM:+0200
TZOFFSETTO:+0100
TZNAME:CET
DTSTART:20261025T010000
END:STANDARD
END:VTIMEZONE
BEGIN:VEVENT
DTSTART;TZID=Europe/Berlin:20250202T104500
DTEND;TZID=Europe/Berlin:20250202T104500
DTSTAMP:20260423T143601
CREATED:20241117T231133Z
LAST-MODIFIED:20241130T200241Z
UID:24864-1738493100-1738493100@kanuklausdorf.de
SUMMARY:Sonntags-Winter-Paddeln
DESCRIPTION:Für einen Teil der Sonntags-Kanuten geht´s je nach Lust und Laune zu einer gemütlichen Runde auf die Schwentine zwischen Wellingdorf und Oppendorfer Mühle. Für einen anderen Teil der Gruppe wird´s schon mal sportlich bei einer längeren Tour auf die Förde. Fahrziele werden je nach Wind und Wetter festgelegt\, so kann es für die Fördefahrer in die Hörn\, zum Marinehafen\, nach Möltenort oder auch mal nach Laboe gehen. Egal\, ob ruhige Schwentine oder rauere Förde\, Mitpaddler für alle Ziele finden sich immer\, also einfach vorbei kommen\, mitpaddeln und Spaß haben! \n🧭 ggf. Seekajakausrüstung erforderlich\n🕑 Uhrzeit gilt für das Ablegen am Steg
URL:https://kanuklausdorf.de/event/winterpaddeln-am-sonntag-11/
LOCATION:Schwentine / Kieler Förde\, Wiesenhörn 5\, 24222 Schwentinental (OT Klausdorf)\, Deutschland
CATEGORIES:Regelmäßig,Seekajak,Winterpaddeln
ORGANIZER;CN="Thomas Voigt":MAILTO:thomas.voigt@kanuklausdorf.rocks
END:VEVENT
BEGIN:VEVENT
DTSTART;TZID=Europe/Berlin:20250209T104500
DTEND;TZID=Europe/Berlin:20250209T104500
DTSTAMP:20260423T143601
CREATED:20241117T231134Z
LAST-MODIFIED:20241130T203156Z
UID:24865-1739097900-1739097900@kanuklausdorf.de
SUMMARY:Sonntags-Winter-Paddeln
DESCRIPTION:Für einen Teil der Sonntags-Kanuten geht´s je nach Lust und Laune zu einer gemütlichen Runde auf die Schwentine zwischen Wellingdorf und Oppendorfer Mühle. Für einen anderen Teil der Gruppe wird´s schon mal sportlich bei einer längeren Tour auf die Förde. Fahrziele werden je nach Wind und Wetter festgelegt\, so kann es für die Fördefahrer in die Hörn\, zum Marinehafen\, nach Möltenort oder auch mal nach Laboe gehen. Egal\, ob ruhige Schwentine oder rauere Förde\, Mitpaddler für alle Ziele finden sich immer\, also einfach vorbei kommen\, mitpaddeln und Spaß haben! \n🧭 ggf. Seekajakausrüstung erforderlich\n🕑 Uhrzeit gilt für das Ablegen am Steg
URL:https://kanuklausdorf.de/event/winterpaddeln-am-sonntag-12/
LOCATION:Schwentine / Kieler Förde\, Wiesenhörn 5\, 24222 Schwentinental (OT Klausdorf)\, Deutschland
CATEGORIES:Regelmäßig,Seekajak,Winterpaddeln
ORGANIZER;CN="Thomas Voigt":MAILTO:thomas.voigt@kanuklausdorf.rocks
END:VEVENT
BEGIN:VEVENT
DTSTART;TZID=Europe/Berlin:20250216T104500
DTEND;TZID=Europe/Berlin:20250216T104500
DTSTAMP:20260423T143601
CREATED:20241117T231145Z
LAST-MODIFIED:20241130T203308Z
UID:24866-1739702700-1739702700@kanuklausdorf.de
SUMMARY:Sonntags-Winter-Paddeln
DESCRIPTION:Für einen Teil der Sonntags-Kanuten geht´s je nach Lust und Laune zu einer gemütlichen Runde auf die Schwentine zwischen Wellingdorf und Oppendorfer Mühle. Für einen anderen Teil der Gruppe wird´s schon mal sportlich bei einer längeren Tour auf die Förde. Fahrziele werden je nach Wind und Wetter festgelegt\, so kann es für die Fördefahrer in die Hörn\, zum Marinehafen\, nach Möltenort oder auch mal nach Laboe gehen. Egal\, ob ruhige Schwentine oder rauere Förde\, Mitpaddler für alle Ziele finden sich immer\, also einfach vorbei kommen\, mitpaddeln und Spaß haben! \n🧭 ggf. Seekajakausrüstung erforderlich\n🕑 Uhrzeit gilt für das Ablegen am Steg
URL:https://kanuklausdorf.de/event/winterpaddeln-am-sonntag-13/
LOCATION:Schwentine / Kieler Förde\, Wiesenhörn 5\, 24222 Schwentinental (OT Klausdorf)\, Deutschland
CATEGORIES:Regelmäßig,Seekajak,Winterpaddeln
ORGANIZER;CN="Thomas Voigt":MAILTO:thomas.voigt@kanuklausdorf.rocks
END:VEVENT
BEGIN:VEVENT
DTSTART;TZID=Europe/Berlin:20250223T104500
DTEND;TZID=Europe/Berlin:20250223T104500
DTSTAMP:20260423T143601
CREATED:20241117T231146Z
LAST-MODIFIED:20241130T195548Z
UID:24867-1740307500-1740307500@kanuklausdorf.de
SUMMARY:Sonntags-Winter-Paddeln
DESCRIPTION:Für einen Teil der Sonntags-Kanuten geht´s je nach Lust und Laune zu einer gemütlichen Runde auf die Schwentine zwischen Wellingdorf und Oppendorfer Mühle. Für einen anderen Teil der Gruppe wird´s schon mal sportlich bei einer längeren Tour auf die Förde. Fahrziele werden je nach Wind und Wetter festgelegt\, so kann es für die Fördefahrer in die Hörn\, zum Marinehafen\, nach Möltenort oder auch mal nach Laboe gehen. Egal\, ob ruhige Schwentine oder rauere Förde\, Mitpaddler für alle Ziele finden sich immer\, also einfach vorbei kommen\, mitpaddeln und Spaß haben! \n🧭 ggf. Seekajakausrüstung erforderlich\n🕑 Uhrzeit gilt für das Ablegen am Steg
URL:https://kanuklausdorf.de/event/winterpaddeln-am-sonntag-14/
LOCATION:Schwentine / Kieler Förde\, Wiesenhörn 5\, 24222 Schwentinental (OT Klausdorf)\, Deutschland
CATEGORIES:Regelmäßig,Seekajak,Winterpaddeln
ORGANIZER;CN="Thomas Voigt":MAILTO:thomas.voigt@kanuklausdorf.rocks
END:VEVENT
END:VCALENDAR