BEGIN:VCALENDAR
VERSION:2.0
PRODID:-//KanuKlausdorf - ECPv6.15.20//NONSGML v1.0//EN
CALSCALE:GREGORIAN
METHOD:PUBLISH
X-ORIGINAL-URL:https://kanuklausdorf.de
X-WR-CALDESC:Veranstaltungen für KanuKlausdorf
REFRESH-INTERVAL;VALUE=DURATION:PT1H
X-Robots-Tag:noindex
X-PUBLISHED-TTL:PT1H
BEGIN:VTIMEZONE
TZID:Europe/Berlin
BEGIN:DAYLIGHT
TZOFFSETFROM:+0100
TZOFFSETTO:+0200
TZNAME:CEST
DTSTART:20230326T010000
END:DAYLIGHT
BEGIN:STANDARD
TZOFFSETFROM:+0200
TZOFFSETTO:+0100
TZNAME:CET
DTSTART:20231029T010000
END:STANDARD
BEGIN:DAYLIGHT
TZOFFSETFROM:+0100
TZOFFSETTO:+0200
TZNAME:CEST
DTSTART:20240331T010000
END:DAYLIGHT
BEGIN:STANDARD
TZOFFSETFROM:+0200
TZOFFSETTO:+0100
TZNAME:CET
DTSTART:20241027T010000
END:STANDARD
BEGIN:DAYLIGHT
TZOFFSETFROM:+0100
TZOFFSETTO:+0200
TZNAME:CEST
DTSTART:20250330T010000
END:DAYLIGHT
BEGIN:STANDARD
TZOFFSETFROM:+0200
TZOFFSETTO:+0100
TZNAME:CET
DTSTART:20251026T010000
END:STANDARD
END:VTIMEZONE
BEGIN:VEVENT
DTSTART;TZID=Europe/Berlin:20241201T104500
DTEND;TZID=Europe/Berlin:20241201T104500
DTSTAMP:20260423T175324
CREATED:20241117T231102Z
LAST-MODIFIED:20241130T201001Z
UID:24855-1733049900-1733049900@kanuklausdorf.de
SUMMARY:Sonntags-Winter-Paddeln
DESCRIPTION:Für einen Teil der Sonntags-Kanuten geht´s je nach Lust und Laune zu einer gemütlichen Runde auf die Schwentine zwischen Wellingdorf und Oppendorfer Mühle. Für einen anderen Teil der Gruppe wird´s schon mal sportlich bei einer längeren Tour auf die Förde. Fahrziele werden je nach Wind und Wetter festgelegt\, so kann es für die Fördefahrer in die Hörn\, zum Marinehafen\, nach Möltenort oder auch mal nach Laboe gehen. Egal\, ob ruhige Schwentine oder rauere Förde\, Mitpaddler für alle Ziele finden sich immer\, also einfach vorbei kommen\, mitpaddeln und Spaß haben! \n🧭 ggf. Seekajakausrüstung erforderlich\n🕑 Uhrzeit gilt für das Ablegen am Steg
URL:https://kanuklausdorf.de/event/winterpaddeln-am-sonntag-2/
LOCATION:Schwentine / Kieler Förde\, Wiesenhörn 5\, 24222 Schwentinental (OT Klausdorf)\, Deutschland
CATEGORIES:Regelmäßig,Seekajak,Winterpaddeln
ORGANIZER;CN="Thomas Voigt":MAILTO:thomas.voigt@kanuklausdorf.rocks
END:VEVENT
BEGIN:VEVENT
DTSTART;TZID=Europe/Berlin:20241208T104500
DTEND;TZID=Europe/Berlin:20241208T104500
DTSTAMP:20260423T175324
CREATED:20241117T231115Z
LAST-MODIFIED:20241130T201742Z
UID:24856-1733654700-1733654700@kanuklausdorf.de
SUMMARY:Sonntags-Winter-Paddeln
DESCRIPTION:Für einen Teil der Sonntags-Kanuten geht´s je nach Lust und Laune zu einer gemütlichen Runde auf die Schwentine zwischen Wellingdorf und Oppendorfer Mühle. Für einen anderen Teil der Gruppe wird´s schon mal sportlich bei einer längeren Tour auf die Förde. Fahrziele werden je nach Wind und Wetter festgelegt\, so kann es für die Fördefahrer in die Hörn\, zum Marinehafen\, nach Möltenort oder auch mal nach Laboe gehen. Egal\, ob ruhige Schwentine oder rauere Förde\, Mitpaddler für alle Ziele finden sich immer\, also einfach vorbei kommen\, mitpaddeln und Spaß haben! \n🧭 ggf. Seekajakausrüstung erforderlich\n🕑 Uhrzeit gilt für das Ablegen am Steg
URL:https://kanuklausdorf.de/event/winterpaddeln-am-sonntag-3/
LOCATION:Schwentine / Kieler Förde\, Wiesenhörn 5\, 24222 Schwentinental (OT Klausdorf)\, Deutschland
CATEGORIES:Regelmäßig,Seekajak,Winterpaddeln
ORGANIZER;CN="Thomas Voigt":MAILTO:thomas.voigt@kanuklausdorf.rocks
END:VEVENT
BEGIN:VEVENT
DTSTART;TZID=Europe/Berlin:20241222T104500
DTEND;TZID=Europe/Berlin:20241222T104500
DTSTAMP:20260423T175324
CREATED:20241117T231116Z
LAST-MODIFIED:20241219T012129Z
UID:24857-1734864300-1734864300@kanuklausdorf.de
SUMMARY:Sonntags-Winter-Paddeln
DESCRIPTION:Für einen Teil der Sonntags-Kanuten geht´s je nach Lust und Laune zu einer gemütlichen Runde auf die Schwentine zwischen Wellingdorf und Oppendorfer Mühle. Für einen anderen Teil der Gruppe wird´s schon mal sportlich bei einer längeren Tour auf die Förde. Fahrziele werden je nach Wind und Wetter festgelegt\, so kann es für die Fördefahrer in die Hörn\, zum Marinehafen\, nach Möltenort oder auch mal nach Laboe gehen. Egal\, ob ruhige Schwentine oder rauere Förde\, Mitpaddler für alle Ziele finden sich immer\, also einfach vorbei kommen\, mitpaddeln und Spaß haben! \n🧭 ggf. Seekajakausrüstung erforderlich\n🕑 Uhrzeit gilt für das Ablegen am Steg
URL:https://kanuklausdorf.de/event/winterpaddeln-am-sonntag-4/
LOCATION:Schwentine / Kieler Förde\, Wiesenhörn 5\, 24222 Schwentinental (OT Klausdorf)\, Deutschland
CATEGORIES:Regelmäßig,Seekajak,Winterpaddeln
ORGANIZER;CN="Thomas Voigt":MAILTO:thomas.voigt@kanuklausdorf.rocks
END:VEVENT
BEGIN:VEVENT
DTSTART;TZID=Europe/Berlin:20241229T104500
DTEND;TZID=Europe/Berlin:20241229T104500
DTSTAMP:20260423T175324
CREATED:20241117T231118Z
LAST-MODIFIED:20241130T202153Z
UID:24859-1735469100-1735469100@kanuklausdorf.de
SUMMARY:Sonntags-Winter-Paddeln
DESCRIPTION:Für einen Teil der Sonntags-Kanuten geht´s je nach Lust und Laune zu einer gemütlichen Runde auf die Schwentine zwischen Wellingdorf und Oppendorfer Mühle. Für einen anderen Teil der Gruppe wird´s schon mal sportlich bei einer längeren Tour auf die Förde. Fahrziele werden je nach Wind und Wetter festgelegt\, so kann es für die Fördefahrer in die Hörn\, zum Marinehafen\, nach Möltenort oder auch mal nach Laboe gehen. Egal\, ob ruhige Schwentine oder rauere Förde\, Mitpaddler für alle Ziele finden sich immer\, also einfach vorbei kommen\, mitpaddeln und Spaß haben! \n🧭 ggf. Seekajakausrüstung erforderlich\n🕑 Uhrzeit gilt für das Ablegen am Steg
URL:https://kanuklausdorf.de/event/winterpaddeln-am-sonntag-6/
LOCATION:Schwentine / Kieler Förde\, Wiesenhörn 5\, 24222 Schwentinental (OT Klausdorf)\, Deutschland
CATEGORIES:Regelmäßig,Seekajak,Winterpaddeln
ORGANIZER;CN="Thomas Voigt":MAILTO:thomas.voigt@kanuklausdorf.rocks
END:VEVENT
END:VCALENDAR