BEGIN:VCALENDAR
VERSION:2.0
PRODID:-//KanuKlausdorf - ECPv6.15.20//NONSGML v1.0//EN
CALSCALE:GREGORIAN
METHOD:PUBLISH
X-ORIGINAL-URL:https://kanuklausdorf.de
X-WR-CALDESC:Veranstaltungen für KanuKlausdorf
REFRESH-INTERVAL;VALUE=DURATION:PT1H
X-Robots-Tag:noindex
X-PUBLISHED-TTL:PT1H
BEGIN:VTIMEZONE
TZID:Europe/Berlin
BEGIN:DAYLIGHT
TZOFFSETFROM:+0100
TZOFFSETTO:+0200
TZNAME:CEST
DTSTART:20230326T010000
END:DAYLIGHT
BEGIN:STANDARD
TZOFFSETFROM:+0200
TZOFFSETTO:+0100
TZNAME:CET
DTSTART:20231029T010000
END:STANDARD
BEGIN:DAYLIGHT
TZOFFSETFROM:+0100
TZOFFSETTO:+0200
TZNAME:CEST
DTSTART:20240331T010000
END:DAYLIGHT
BEGIN:STANDARD
TZOFFSETFROM:+0200
TZOFFSETTO:+0100
TZNAME:CET
DTSTART:20241027T010000
END:STANDARD
BEGIN:DAYLIGHT
TZOFFSETFROM:+0100
TZOFFSETTO:+0200
TZNAME:CEST
DTSTART:20250330T010000
END:DAYLIGHT
BEGIN:STANDARD
TZOFFSETFROM:+0200
TZOFFSETTO:+0100
TZNAME:CET
DTSTART:20251026T010000
END:STANDARD
END:VTIMEZONE
BEGIN:VEVENT
DTSTART;TZID=Europe/Berlin:20240825T094500
DTEND;TZID=Europe/Berlin:20240825T094500
DTSTAMP:20260424T003200
CREATED:20240125T081613Z
LAST-MODIFIED:20250128T233653Z
UID:23201-1724579100-1724579100@kanuklausdorf.de
SUMMARY:Kieler Hafentour
DESCRIPTION:Als Abschluss der SWF gibt es eine Tagestour auf der Kieler Innenförde und der Schwentine. \n  \n🏅 Verbandsfahrt\n🧭 Seekajakausrüstung erforderlich\n🕑 Uhrzeit gilt für das Ablegen am Steg
URL:https://kanuklausdorf.de/event/kieler-hafentour/
LOCATION:Schwentine / Kieler Förde\, Wiesenhörn 5\, 24222 Schwentinental (OT Klausdorf)\, Deutschland
CATEGORIES:Gemeinschaftsfahrt,Seekajak
ORGANIZER;CN="Wanderwart Mario L%C3%BCneberg":MAILTO:wanderwart@kanuklausdorf.rocks
END:VEVENT
END:VCALENDAR