BEGIN:VCALENDAR
VERSION:2.0
PRODID:-//KanuKlausdorf - ECPv6.15.20//NONSGML v1.0//EN
CALSCALE:GREGORIAN
METHOD:PUBLISH
X-WR-CALNAME:KanuKlausdorf
X-ORIGINAL-URL:https://kanuklausdorf.de
X-WR-CALDESC:Veranstaltungen für KanuKlausdorf
REFRESH-INTERVAL;VALUE=DURATION:PT1H
X-Robots-Tag:noindex
X-PUBLISHED-TTL:PT1H
BEGIN:VTIMEZONE
TZID:Europe/Berlin
BEGIN:DAYLIGHT
TZOFFSETFROM:+0100
TZOFFSETTO:+0200
TZNAME:CEST
DTSTART:20240331T010000
END:DAYLIGHT
BEGIN:STANDARD
TZOFFSETFROM:+0200
TZOFFSETTO:+0100
TZNAME:CET
DTSTART:20241027T010000
END:STANDARD
BEGIN:DAYLIGHT
TZOFFSETFROM:+0100
TZOFFSETTO:+0200
TZNAME:CEST
DTSTART:20250330T010000
END:DAYLIGHT
BEGIN:STANDARD
TZOFFSETFROM:+0200
TZOFFSETTO:+0100
TZNAME:CET
DTSTART:20251026T010000
END:STANDARD
BEGIN:DAYLIGHT
TZOFFSETFROM:+0100
TZOFFSETTO:+0200
TZNAME:CEST
DTSTART:20260329T010000
END:DAYLIGHT
BEGIN:STANDARD
TZOFFSETFROM:+0200
TZOFFSETTO:+0100
TZNAME:CET
DTSTART:20261025T010000
END:STANDARD
END:VTIMEZONE
BEGIN:VEVENT
DTSTART;TZID=Europe/Berlin:20251122T100000
DTEND;TZID=Europe/Berlin:20251122T150000
DTSTAMP:20260423T222255
CREATED:20250131T125037Z
LAST-MODIFIED:20250131T125704Z
UID:25776-1763805600-1763823600@kanuklausdorf.de
SUMMARY:Gemeinschaftsarbeit
DESCRIPTION:Wir machen unser Gelände fit für den Winter. Das betrifft das ganze Gelände. Gebäude\, Außen- sowie Innenbereich. \n  \n🕑 Uhrzeit gilt für das Treffen auf dem Kanugelände
URL:https://kanuklausdorf.de/event/gemeinschaftsarbeit-6/
LOCATION:Kanugelände\, Wiesenhörn 5\, 24222 Schwentinental (OT Klausdorf)\, Deutschland
CATEGORIES:An Land
ORGANIZER;CN="Anlagenwart Andrzej Kusnierczyk":MAILTO:anlagenwart@kanuklausdorf.rocks
END:VEVENT
END:VCALENDAR