BEGIN:VCALENDAR
VERSION:2.0
PRODID:-//KanuKlausdorf - ECPv6.15.20//NONSGML v1.0//EN
CALSCALE:GREGORIAN
METHOD:PUBLISH
X-ORIGINAL-URL:https://kanuklausdorf.de
X-WR-CALDESC:Veranstaltungen für KanuKlausdorf
REFRESH-INTERVAL;VALUE=DURATION:PT1H
X-Robots-Tag:noindex
X-PUBLISHED-TTL:PT1H
BEGIN:VTIMEZONE
TZID:Europe/Berlin
BEGIN:DAYLIGHT
TZOFFSETFROM:+0100
TZOFFSETTO:+0200
TZNAME:CEST
DTSTART:20250330T010000
END:DAYLIGHT
BEGIN:STANDARD
TZOFFSETFROM:+0200
TZOFFSETTO:+0100
TZNAME:CET
DTSTART:20251026T010000
END:STANDARD
BEGIN:DAYLIGHT
TZOFFSETFROM:+0100
TZOFFSETTO:+0200
TZNAME:CEST
DTSTART:20260329T010000
END:DAYLIGHT
BEGIN:STANDARD
TZOFFSETFROM:+0200
TZOFFSETTO:+0100
TZNAME:CET
DTSTART:20261025T010000
END:STANDARD
BEGIN:DAYLIGHT
TZOFFSETFROM:+0100
TZOFFSETTO:+0200
TZNAME:CEST
DTSTART:20270328T010000
END:DAYLIGHT
BEGIN:STANDARD
TZOFFSETFROM:+0200
TZOFFSETTO:+0100
TZNAME:CET
DTSTART:20271031T010000
END:STANDARD
END:VTIMEZONE
BEGIN:VEVENT
DTSTART;TZID=Europe/Berlin:20261114T190000
DTEND;TZID=Europe/Berlin:20261114T190000
DTSTAMP:20260426T014111
CREATED:20260327T132758Z
LAST-MODIFIED:20260327T132801Z
UID:27820-1794682800-1794682800@kanuklausdorf.de
SUMMARY:Bilder der Saison
DESCRIPTION:Bilder\, Schinken- / Käsebrot\, Klönschnack. \nDas erwartet dich in “kurz gesagt”. Es gibt Abendessen und danach hat jeder die Möglichkeit Bilder von seinen Touren zu zeigen und etwas dazu zu erzählen. Es ist egal\, ob einen ganzen Urlaub oder eine besonders schöne Tagestour. Für alle gilt nur\, dass es bei 10-15 Minuten bleiben soll. \nDie Bilder und Videos können gerne im Voraus abgegeben werden. \n  \n🕑 Uhrzeit gilt für das Treffen im Gemeindehaus Klausdorf
URL:https://kanuklausdorf.de/event/bilder-der-saison-3/
LOCATION:Gemeindehaus im OT Klausdorf
CATEGORIES:An Land
END:VEVENT
END:VCALENDAR